BEGIN:VCALENDAR
VERSION:2.0
PRODID:-//ChamberMaster//Event Calendar 2.0//EN
METHOD:PUBLISH
X-PUBLISHED-TTL:P3D
REFRESH-INTERVAL:P3D
CALSCALE:GREGORIAN
BEGIN:VEVENT
DTSTART:20230713T002500Z
DTEND:20230713T030500Z
X-MICROSOFT-CDO-ALLDAYEVENT:FALSE
SUMMARY:Silverdale Greendrinks
DESCRIPTION:Bringing It Together\, Keeping It Local
X-ALT-DESC;FMTTYPE=text/html:Bringing It Together\, Keeping It Local
LOCATION:Maynard's Restaurant 2251 NW Bucklin Hill Rd Silverdale\, WA 98383
UID:e.2061.10515
SEQUENCE:3
DTSTAMP:20260421T175743Z
URL:http://greaterkitsapchamber.chambermaster.com/events/details/silverdale-greendrinks-10515
END:VEVENT

END:VCALENDAR
