BEGIN:VCALENDAR
VERSION:2.0
PRODID:-//ChamberMaster//Event Calendar 2.0//EN
METHOD:PUBLISH
X-PUBLISHED-TTL:P3D
REFRESH-INTERVAL:P3D
CALSCALE:GREGORIAN
BEGIN:VEVENT
DTSTART:20230608T002500Z
DTEND:20230608T030000Z
X-MICROSOFT-CDO-ALLDAYEVENT:FALSE
SUMMARY:Silverdale Greendrinks
DESCRIPTION:Silverdale Greendrinks\n\nBringing It Together\, Keeping It Local\n\n\n\n21+ Only
X-ALT-DESC;FMTTYPE=text/html:Silverdale Greendrinks<br />\nBringing It Together\, Keeping It Local<br />\n<br />\n21+ Only
LOCATION:Kettlefish 3607 NW Byron Street Silverdale\, WA 98383
UID:e.2061.10316
SEQUENCE:3
DTSTAMP:20260421T224607Z
URL:http://greaterkitsapchamber.chambermaster.com/events/details/silverdale-greendrinks-10316
END:VEVENT

END:VCALENDAR
