BEGIN:VCALENDAR
VERSION:2.0
PRODID:-//ChamberMaster//Event Calendar 2.0//EN
METHOD:PUBLISH
X-PUBLISHED-TTL:P3D
REFRESH-INTERVAL:P3D
CALSCALE:GREGORIAN
BEGIN:VEVENT
DTSTART:20230825T020000Z
DTEND:20230825T033000Z
X-MICROSOFT-CDO-ALLDAYEVENT:FALSE
SUMMARY:History UnCorked: Lighthouse Lore
DESCRIPTION:Lewis Noah with Friends of Point No Point Lighthouse will share the many tales of this historic land spit in Hansville. We'll learn how the site's significance has changed over time\, initially serving as a trading post for our areas First Peoples\, then becoming the site where the 1855 land Treaty of Point No Point was signed into action and later as the location of the iconic lighthouse built in 1879. The Point No Point Light Station is Washington's oldest operating lighthouse on the Puget Sound. Lewis will share stories of some of the keepers that have ensured continuous operation of the lighthouse since the day it was built. Admission is Free. Reservation is Required.
X-ALT-DESC;FMTTYPE=text/html:Lewis Noah with Friends of Point No Point Lighthouse will share the many tales of this historic land spit in Hansville. We&#39\;ll learn how the site&#39\;s significance has changed over time\, initially serving as a trading post for our areas First Peoples\, then becoming the site where the 1855 land Treaty of Point No Point was signed into action and later as the location of the iconic lighthouse built in 1879. The Point No Point Light Station is Washington&#39\;s oldest operating lighthouse on the Puget Sound. Lewis will share stories of some of the keepers that have ensured continuous operation of the lighthouse since the day it was built. Admission is Free. Reservation is Required.
LOCATION:Kitsap History Museum 280 4th St Bremerton\, WA 98337
UID:e.2061.10531
SEQUENCE:3
DTSTAMP:20260420T143837Z
URL:http://greaterkitsapchamber.chambermaster.com/events/details/history-uncorked-lighthouse-lore-10531
END:VEVENT

END:VCALENDAR
